BEGIN:VCALENDAR
VERSION:2.0
PRODID:-//AVLI - ECPv6.15.11//NONSGML v1.0//EN
CALSCALE:GREGORIAN
METHOD:PUBLISH
X-ORIGINAL-URL:https://avli.ch
X-WR-CALDESC:Évènements pour AVLI
REFRESH-INTERVAL;VALUE=DURATION:PT1H
X-Robots-Tag:noindex
X-PUBLISHED-TTL:PT1H
BEGIN:VTIMEZONE
TZID:Europe/Berlin
BEGIN:DAYLIGHT
TZOFFSETFROM:+0100
TZOFFSETTO:+0200
TZNAME:CEST
DTSTART:20240331T010000
END:DAYLIGHT
BEGIN:STANDARD
TZOFFSETFROM:+0200
TZOFFSETTO:+0100
TZNAME:CET
DTSTART:20241027T010000
END:STANDARD
BEGIN:DAYLIGHT
TZOFFSETFROM:+0100
TZOFFSETTO:+0200
TZNAME:CEST
DTSTART:20250330T010000
END:DAYLIGHT
BEGIN:STANDARD
TZOFFSETFROM:+0200
TZOFFSETTO:+0100
TZNAME:CET
DTSTART:20251026T010000
END:STANDARD
BEGIN:DAYLIGHT
TZOFFSETFROM:+0100
TZOFFSETTO:+0200
TZNAME:CEST
DTSTART:20260329T010000
END:DAYLIGHT
BEGIN:STANDARD
TZOFFSETFROM:+0200
TZOFFSETTO:+0100
TZNAME:CET
DTSTART:20261025T010000
END:STANDARD
END:VTIMEZONE
BEGIN:VEVENT
DTSTART;TZID=Europe/Berlin:20250402T150000
DTEND;TZID=Europe/Berlin:20250402T170000
DTSTAMP:20260422T143518
CREATED:20241109T111950Z
LAST-MODIFIED:20241109T111950Z
UID:32938-1743606000-1743613200@avli.ch
SUMMARY:Match Ligue Ecolière : Grandson - Impro Azur
DESCRIPTION:
URL:https://avli.ch/event/match-ligue-ecoliere-grandson-impro-azur/
LOCATION:Le Cazard (vente de billets sur place / pas de réservations)\, Rue Pré-du-Marché 15\, Lausanne\, 1004\, Suisse
CATEGORIES:Tournoi Ligue Ecolière
END:VEVENT
BEGIN:VEVENT
DTSTART;TZID=Europe/Berlin:20250402T180000
DTEND;TZID=Europe/Berlin:20250402T200000
DTSTAMP:20260422T143518
CREATED:20241109T112050Z
LAST-MODIFIED:20241109T112050Z
UID:32940-1743616800-1743624000@avli.ch
SUMMARY:Match Ligue Ecolière : Morges - Ecublens
DESCRIPTION:
URL:https://avli.ch/event/match-ligue-ecoliere-morges-ecublens/
LOCATION:Le Cazard (vente de billets sur place / pas de réservations)\, Rue Pré-du-Marché 15\, Lausanne\, 1004\, Suisse
CATEGORIES:Tournoi Ligue Ecolière
END:VEVENT
BEGIN:VEVENT
DTSTART;TZID=Europe/Berlin:20250403T200000
DTEND;TZID=Europe/Berlin:20250403T220000
DTSTAMP:20260422T143518
CREATED:20241103T095903Z
LAST-MODIFIED:20241103T095903Z
UID:32835-1743710400-1743717600@avli.ch
SUMMARY:Match Ligue Junior : Le Michel - Roomies
DESCRIPTION:
URL:https://avli.ch/event/match-ligue-junior-le-michel-roomies-2/
LOCATION:Le Cazard (vente de billets sur place / pas de réservations)\, Rue Pré-du-Marché 15\, Lausanne\, 1004\, Suisse
CATEGORIES:Tournoi Ligue Junior
END:VEVENT
BEGIN:VEVENT
DTSTART;TZID=Europe/Berlin:20250404T200000
DTEND;TZID=Europe/Berlin:20250404T220000
DTSTAMP:20260422T143518
CREATED:20241103T100416Z
LAST-MODIFIED:20241103T100416Z
UID:32837-1743796800-1743804000@avli.ch
SUMMARY:Match Ligue Junior : Amis - Provence
DESCRIPTION:
URL:https://avli.ch/event/match-ligue-junior-amis-provence/
LOCATION:Le Cazard (vente de billets sur place / pas de réservations)\, Rue Pré-du-Marché 15\, Lausanne\, 1004\, Suisse
CATEGORIES:Tournoi Ligue Junior
END:VEVENT
BEGIN:VEVENT
DTSTART;TZID=Europe/Berlin:20250405T100000
DTEND;TZID=Europe/Berlin:20250405T120000
DTSTAMP:20260422T143518
CREATED:20241109T112218Z
LAST-MODIFIED:20241109T112218Z
UID:32942-1743847200-1743854400@avli.ch
SUMMARY:Match Ligue Poussins : Prilly - Préverenges - Béthusy
DESCRIPTION:
URL:https://avli.ch/event/match-ligue-poussins-prilly-preverenges-bethusy/
LOCATION:Le Cazard (vente de billets sur place / pas de réservations)\, Rue Pré-du-Marché 15\, Lausanne\, 1004\, Suisse
CATEGORIES:Match Ligue Poussin
END:VEVENT
BEGIN:VEVENT
DTSTART;TZID=Europe/Berlin:20250405T140000
DTEND;TZID=Europe/Berlin:20250405T160000
DTSTAMP:20260422T143518
CREATED:20241109T112320Z
LAST-MODIFIED:20241109T112320Z
UID:32944-1743861600-1743868800@avli.ch
SUMMARY:Match Ligue Ecolière : Béthusy B - Prilly
DESCRIPTION:
URL:https://avli.ch/event/match-ligue-ecoliere-bethusy-b-prilly/
LOCATION:Le Cazard (vente de billets sur place / pas de réservations)\, Rue Pré-du-Marché 15\, Lausanne\, 1004\, Suisse
CATEGORIES:Tournoi Ligue Ecolière
END:VEVENT
BEGIN:VEVENT
DTSTART;TZID=Europe/Berlin:20250405T170000
DTEND;TZID=Europe/Berlin:20250405T190000
DTSTAMP:20260422T143518
CREATED:20241109T112417Z
LAST-MODIFIED:20241109T112417Z
UID:32946-1743872400-1743879600@avli.ch
SUMMARY:Match Ligue Ecolière : Béthusy A - Aubonne
DESCRIPTION:
URL:https://avli.ch/event/match-ligue-ecoliere-bethusy-a-aubonne/
LOCATION:Le Cazard (vente de billets sur place / pas de réservations)\, Rue Pré-du-Marché 15\, Lausanne\, 1004\, Suisse
CATEGORIES:Tournoi Ligue Ecolière
END:VEVENT
BEGIN:VEVENT
DTSTART;TZID=Europe/Berlin:20250405T200000
DTEND;TZID=Europe/Berlin:20250405T220000
DTSTAMP:20260422T143518
CREATED:20241107T174910Z
LAST-MODIFIED:20241107T174910Z
UID:32881-1743883200-1743890400@avli.ch
SUMMARY:Match Ligue A : GIN - La Clim
DESCRIPTION:
URL:https://avli.ch/event/match-ligue-a-gin-la-clim/
LOCATION:Le Cazard (vente de billets sur place / pas de réservations)\, Rue Pré-du-Marché 15\, Lausanne\, 1004\, Suisse
CATEGORIES:Tournoi Ligue A
END:VEVENT
END:VCALENDAR