BEGIN:VCALENDAR
VERSION:2.0
PRODID:-//AVLI - ECPv6.15.11//NONSGML v1.0//EN
CALSCALE:GREGORIAN
METHOD:PUBLISH
X-ORIGINAL-URL:https://avli.ch
X-WR-CALDESC:Évènements pour AVLI
REFRESH-INTERVAL;VALUE=DURATION:PT1H
X-Robots-Tag:noindex
X-PUBLISHED-TTL:PT1H
BEGIN:VTIMEZONE
TZID:Europe/Berlin
BEGIN:DAYLIGHT
TZOFFSETFROM:+0100
TZOFFSETTO:+0200
TZNAME:CEST
DTSTART:20240331T010000
END:DAYLIGHT
BEGIN:STANDARD
TZOFFSETFROM:+0200
TZOFFSETTO:+0100
TZNAME:CET
DTSTART:20241027T010000
END:STANDARD
BEGIN:DAYLIGHT
TZOFFSETFROM:+0100
TZOFFSETTO:+0200
TZNAME:CEST
DTSTART:20250330T010000
END:DAYLIGHT
BEGIN:STANDARD
TZOFFSETFROM:+0200
TZOFFSETTO:+0100
TZNAME:CET
DTSTART:20251026T010000
END:STANDARD
BEGIN:DAYLIGHT
TZOFFSETFROM:+0100
TZOFFSETTO:+0200
TZNAME:CEST
DTSTART:20260329T010000
END:DAYLIGHT
BEGIN:STANDARD
TZOFFSETFROM:+0200
TZOFFSETTO:+0100
TZNAME:CET
DTSTART:20261025T010000
END:STANDARD
END:VTIMEZONE
BEGIN:VEVENT
DTSTART;TZID=Europe/Berlin:20250110T200000
DTEND;TZID=Europe/Berlin:20250110T220000
DTSTAMP:20260426T034213
CREATED:20241103T110808Z
LAST-MODIFIED:20241103T110808Z
UID:32849-1736539200-1736546400@avli.ch
SUMMARY:Match Ligue A : Brunch à la ferme - La Gilberte
DESCRIPTION:
URL:https://avli.ch/event/match-ligue-a-brunch-a-la-ferme-la-gilberte/
LOCATION:Le Cazard (vente de billets sur place / pas de réservations)\, Rue Pré-du-Marché 15\, Lausanne\, 1004\, Suisse
CATEGORIES:Tournoi Ligue A
END:VEVENT
BEGIN:VEVENT
DTSTART;TZID=Europe/Berlin:20250111T170000
DTEND;TZID=Europe/Berlin:20250111T190000
DTSTAMP:20260426T034213
CREATED:20241103T090701Z
LAST-MODIFIED:20241103T090701Z
UID:32810-1736614800-1736622000@avli.ch
SUMMARY:Match Ligue Junior : Amis - NOM
DESCRIPTION:
URL:https://avli.ch/event/match-ligue-junior-amis-nom/
LOCATION:Le Cazard (vente de billets sur place / pas de réservations)\, Rue Pré-du-Marché 15\, Lausanne\, 1004\, Suisse
CATEGORIES:Tournoi Ligue Junior
END:VEVENT
BEGIN:VEVENT
DTSTART;TZID=Europe/Berlin:20250111T200000
DTEND;TZID=Europe/Berlin:20250111T220000
DTSTAMP:20260426T034213
CREATED:20241103T111126Z
LAST-MODIFIED:20241103T112100Z
UID:32851-1736625600-1736632800@avli.ch
SUMMARY:Match Ligue A : La Clim - l'Echapée Belle
DESCRIPTION:
URL:https://avli.ch/event/match-ligue-a-la-clim-lechapee-belle/
LOCATION:Le Cazard (vente de billets sur place / pas de réservations)\, Rue Pré-du-Marché 15\, Lausanne\, 1004\, Suisse
CATEGORIES:Tournoi Ligue A
END:VEVENT
BEGIN:VEVENT
DTSTART;TZID=Europe/Berlin:20250117T200000
DTEND;TZID=Europe/Berlin:20250117T220000
DTSTAMP:20260426T034213
CREATED:20241103T090832Z
LAST-MODIFIED:20241107T173150Z
UID:32812-1737144000-1737151200@avli.ch
SUMMARY:Match Ligue Junior : Provence - Le Michel
DESCRIPTION:
URL:https://avli.ch/event/match-ligue-junior-provence-roomies/
LOCATION:Le Cazard (vente de billets sur place / pas de réservations)\, Rue Pré-du-Marché 15\, Lausanne\, 1004\, Suisse
CATEGORIES:Tournoi Ligue Junior
END:VEVENT
BEGIN:VEVENT
DTSTART;TZID=Europe/Berlin:20250118T170000
DTEND;TZID=Europe/Berlin:20250118T190000
DTSTAMP:20260426T034213
CREATED:20241103T090959Z
LAST-MODIFIED:20241103T091421Z
UID:32814-1737219600-1737226800@avli.ch
SUMMARY:Match Ligue Junior : GAP - Beaulieu
DESCRIPTION:
URL:https://avli.ch/event/match-ligue-junior-gap-beaulieu/
LOCATION:Le Cazard (vente de billets sur place / pas de réservations)\, Rue Pré-du-Marché 15\, Lausanne\, 1004\, Suisse
CATEGORIES:Tournoi Ligue Junior
END:VEVENT
BEGIN:VEVENT
DTSTART;TZID=Europe/Berlin:20250118T200000
DTEND;TZID=Europe/Berlin:20250118T220000
DTSTAMP:20260426T034213
CREATED:20241103T111238Z
LAST-MODIFIED:20241103T111238Z
UID:32853-1737230400-1737237600@avli.ch
SUMMARY:Match Ligue A : Captain Neo - La Clim
DESCRIPTION:
URL:https://avli.ch/event/match-ligue-a-captain-neo-la-clim/
LOCATION:Le Cazard (vente de billets sur place / pas de réservations)\, Rue Pré-du-Marché 15\, Lausanne\, 1004\, Suisse
CATEGORIES:Tournoi Ligue A
END:VEVENT
BEGIN:VEVENT
DTSTART;TZID=Europe/Berlin:20250122T150000
DTEND;TZID=Europe/Berlin:20250122T170000
DTSTAMP:20260426T034213
CREATED:20241108T174203Z
LAST-MODIFIED:20241108T174203Z
UID:32893-1737558000-1737565200@avli.ch
SUMMARY:Match Ligue Ecolière : Béthusy A - Renens
DESCRIPTION:
URL:https://avli.ch/event/match-ligue-ecoliere-bethusy-a-renens/
LOCATION:Salle des Remparts\, La Tour-de-Peilz\, Pl. des Anciens-Fossés 7\, La Tour-de-Peilz\, 1814\, Suisse
CATEGORIES:Tournoi Ligue Ecolière
END:VEVENT
BEGIN:VEVENT
DTSTART;TZID=Europe/Berlin:20250122T180000
DTEND;TZID=Europe/Berlin:20250122T200000
DTSTAMP:20260426T034213
CREATED:20241108T174308Z
LAST-MODIFIED:20241108T174308Z
UID:32895-1737568800-1737576000@avli.ch
SUMMARY:Match Ligue Ecolière : Béthusy B - Cossonay
DESCRIPTION:
URL:https://avli.ch/event/match-ligue-ecoliere-bethusy-b-cossonay/
LOCATION:Salle des Remparts\, La Tour-de-Peilz\, Pl. des Anciens-Fossés 7\, La Tour-de-Peilz\, 1814\, Suisse
CATEGORIES:Tournoi Ligue Ecolière
END:VEVENT
BEGIN:VEVENT
DTSTART;TZID=Europe/Berlin:20250123T200000
DTEND;TZID=Europe/Berlin:20250123T220000
DTSTAMP:20260426T034213
CREATED:20241103T092757Z
LAST-MODIFIED:20241103T092757Z
UID:32816-1737662400-1737669600@avli.ch
SUMMARY:Match Ligue Junior : BRIC - Le Michel
DESCRIPTION:
URL:https://avli.ch/event/match-ligue-junior-bric-le-michel/
LOCATION:Salle des Remparts\, La Tour-de-Peilz\, Pl. des Anciens-Fossés 7\, La Tour-de-Peilz\, 1814\, Suisse
CATEGORIES:Tournoi Ligue Junior
END:VEVENT
BEGIN:VEVENT
DTSTART;TZID=Europe/Berlin:20250124T200000
DTEND;TZID=Europe/Berlin:20250124T220000
DTSTAMP:20260426T034213
CREATED:20241103T111350Z
LAST-MODIFIED:20241103T112733Z
UID:32855-1737748800-1737756000@avli.ch
SUMMARY:Match Ligue A : Brunch à la ferme - Rictus Impra
DESCRIPTION:
URL:https://avli.ch/event/match-ligue-a-brunch-a-la-ferme-rictus-impra/
LOCATION:Salle des Remparts\, La Tour-de-Peilz\, Pl. des Anciens-Fossés 7\, La Tour-de-Peilz\, 1814\, Suisse
CATEGORIES:Tournoi Ligue A
END:VEVENT
BEGIN:VEVENT
DTSTART;TZID=Europe/Berlin:20250125T140000
DTEND;TZID=Europe/Berlin:20250125T160000
DTSTAMP:20260426T034213
CREATED:20241108T174419Z
LAST-MODIFIED:20241108T174419Z
UID:32897-1737813600-1737820800@avli.ch
SUMMARY:Match Ligue Ecolière : Crissier - La Tour-de-Nay
DESCRIPTION:
URL:https://avli.ch/event/match-ligue-ecoliere-crissier-la-tour-de-nay/
LOCATION:Salle des Remparts\, La Tour-de-Peilz\, Pl. des Anciens-Fossés 7\, La Tour-de-Peilz\, 1814\, Suisse
CATEGORIES:Tournoi Ligue Ecolière
END:VEVENT
BEGIN:VEVENT
DTSTART;TZID=Europe/Berlin:20250125T170000
DTEND;TZID=Europe/Berlin:20250125T190000
DTSTAMP:20260426T034213
CREATED:20241108T174515Z
LAST-MODIFIED:20241108T174515Z
UID:32899-1737824400-1737831600@avli.ch
SUMMARY:Match Ligue Ecolière : Prilly - Egzeko
DESCRIPTION:
URL:https://avli.ch/event/match-ligue-ecoliere-prilly-egzeko/
LOCATION:Salle des Remparts\, La Tour-de-Peilz\, Pl. des Anciens-Fossés 7\, La Tour-de-Peilz\, 1814\, Suisse
CATEGORIES:Tournoi Ligue Ecolière
END:VEVENT
BEGIN:VEVENT
DTSTART;TZID=Europe/Berlin:20250125T200000
DTEND;TZID=Europe/Berlin:20250125T220000
DTSTAMP:20260426T034213
CREATED:20241103T111612Z
LAST-MODIFIED:20241103T112956Z
UID:32857-1737835200-1737842400@avli.ch
SUMMARY:Match Ligue A : Les Bleu·e·x·s - Captain Neo
DESCRIPTION:
URL:https://avli.ch/event/match-ligue-a-les-bleu%c2%b7e%c2%b7x%c2%b7s-captain-neo/
LOCATION:Salle des Remparts\, La Tour-de-Peilz\, Pl. des Anciens-Fossés 7\, La Tour-de-Peilz\, 1814\, Suisse
CATEGORIES:Tournoi Ligue A
END:VEVENT
BEGIN:VEVENT
DTSTART;TZID=Europe/Berlin:20250126T170000
DTEND;TZID=Europe/Berlin:20250126T190000
DTSTAMP:20260426T034213
CREATED:20241116T132856Z
LAST-MODIFIED:20241116T132856Z
UID:32973-1737910800-1737918000@avli.ch
SUMMARY:Match de Gala Ligue Ecolière - Ligue A
DESCRIPTION:
URL:https://avli.ch/event/match-de-gala-ligue-ecoliere-ligue-a/
LOCATION:Salle des Remparts\, La Tour-de-Peilz\, Pl. des Anciens-Fossés 7\, La Tour-de-Peilz\, 1814\, Suisse
CATEGORIES:Match de gala
END:VEVENT
BEGIN:VEVENT
DTSTART;TZID=Europe/Berlin:20250129T150000
DTEND;TZID=Europe/Berlin:20250129T170000
DTSTAMP:20260426T034213
CREATED:20241108T174556Z
LAST-MODIFIED:20241108T174556Z
UID:32901-1738162800-1738170000@avli.ch
SUMMARY:Match Ligue Ecolière : Bergières - Aubonne
DESCRIPTION:
URL:https://avli.ch/event/match-ligue-ecoliere-bergieres-aubonne/
LOCATION:Le Cazard (vente de billets sur place / pas de réservations)\, Rue Pré-du-Marché 15\, Lausanne\, 1004\, Suisse
CATEGORIES:Tournoi Ligue Ecolière
END:VEVENT
BEGIN:VEVENT
DTSTART;TZID=Europe/Berlin:20250129T180000
DTEND;TZID=Europe/Berlin:20250129T200000
DTSTAMP:20260426T034213
CREATED:20241108T174643Z
LAST-MODIFIED:20241108T174643Z
UID:32903-1738173600-1738180800@avli.ch
SUMMARY:Match Ligue Ecolière : Préverenges - Epalinges B
DESCRIPTION:
URL:https://avli.ch/event/match-ligue-ecoliere-preverenges-epalinges-b/
LOCATION:Le Cazard (vente de billets sur place / pas de réservations)\, Rue Pré-du-Marché 15\, Lausanne\, 1004\, Suisse
CATEGORIES:Tournoi Ligue Ecolière
END:VEVENT
BEGIN:VEVENT
DTSTART;TZID=Europe/Berlin:20250130T200000
DTEND;TZID=Europe/Berlin:20250130T220000
DTSTAMP:20260426T034213
CREATED:20241103T092923Z
LAST-MODIFIED:20241103T092923Z
UID:32818-1738267200-1738274400@avli.ch
SUMMARY:Match Ligue Junior : Camorra - Provence
DESCRIPTION:
URL:https://avli.ch/event/match-ligue-junior-camorra-provence-2/
LOCATION:Le Cazard (vente de billets sur place / pas de réservations)\, Rue Pré-du-Marché 15\, Lausanne\, 1004\, Suisse
CATEGORIES:Tournoi Ligue Junior
END:VEVENT
END:VCALENDAR