BEGIN:VCALENDAR
VERSION:2.0
PRODID:-//AVLI - ECPv6.15.11//NONSGML v1.0//EN
CALSCALE:GREGORIAN
METHOD:PUBLISH
X-WR-CALNAME:AVLI
X-ORIGINAL-URL:https://avli.ch
X-WR-CALDESC:Évènements pour AVLI
REFRESH-INTERVAL;VALUE=DURATION:PT1H
X-Robots-Tag:noindex
X-PUBLISHED-TTL:PT1H
BEGIN:VTIMEZONE
TZID:Europe/Berlin
BEGIN:DAYLIGHT
TZOFFSETFROM:+0100
TZOFFSETTO:+0200
TZNAME:CEST
DTSTART:20230326T010000
END:DAYLIGHT
BEGIN:STANDARD
TZOFFSETFROM:+0200
TZOFFSETTO:+0100
TZNAME:CET
DTSTART:20231029T010000
END:STANDARD
BEGIN:DAYLIGHT
TZOFFSETFROM:+0100
TZOFFSETTO:+0200
TZNAME:CEST
DTSTART:20240331T010000
END:DAYLIGHT
BEGIN:STANDARD
TZOFFSETFROM:+0200
TZOFFSETTO:+0100
TZNAME:CET
DTSTART:20241027T010000
END:STANDARD
BEGIN:DAYLIGHT
TZOFFSETFROM:+0100
TZOFFSETTO:+0200
TZNAME:CEST
DTSTART:20250330T010000
END:DAYLIGHT
BEGIN:STANDARD
TZOFFSETFROM:+0200
TZOFFSETTO:+0100
TZNAME:CET
DTSTART:20251026T010000
END:STANDARD
END:VTIMEZONE
BEGIN:VEVENT
DTSTART;TZID=Europe/Berlin:20240301T200000
DTEND;TZID=Europe/Berlin:20240301T220000
DTSTAMP:20260421T114412
CREATED:20231119T181027Z
LAST-MODIFIED:20231119T181027Z
UID:32481-1709323200-1709330400@avli.ch
SUMMARY:Match Ligue Junior : O'Nyon - Provence
DESCRIPTION:
URL:https://avli.ch/event/match-ligue-junior-onyon-provence/
LOCATION:Le Cazard (vente de billets sur place / pas de réservations)\, Rue Pré-du-Marché 15\, Lausanne\, 1004\, Suisse
CATEGORIES:Tournoi Ligue Junior
END:VEVENT
BEGIN:VEVENT
DTSTART;TZID=Europe/Berlin:20240302T100000
DTEND;TZID=Europe/Berlin:20240302T120000
DTSTAMP:20260421T114412
CREATED:20231119T181203Z
LAST-MODIFIED:20231119T181203Z
UID:32483-1709373600-1709380800@avli.ch
SUMMARY:Match Ligue Écolière : Aubonne - Béthusy
DESCRIPTION:
URL:https://avli.ch/event/match-ligue-ecoliere-aubonne-bethusy/
LOCATION:Le Cazard (vente de billets sur place / pas de réservations)\, Rue Pré-du-Marché 15\, Lausanne\, 1004\, Suisse
CATEGORIES:Tournoi Ligue Ecolière
END:VEVENT
BEGIN:VEVENT
DTSTART;TZID=Europe/Berlin:20240302T140000
DTEND;TZID=Europe/Berlin:20240302T160000
DTSTAMP:20260421T114412
CREATED:20231119T181310Z
LAST-MODIFIED:20231119T181310Z
UID:32485-1709388000-1709395200@avli.ch
SUMMARY:Match Ligue Écolière : Impro Azur (St-Prex) - Morges
DESCRIPTION:
URL:https://avli.ch/event/match-ligue-ecoliere-impro-azur-st-prex-morges/
LOCATION:Le Cazard (vente de billets sur place / pas de réservations)\, Rue Pré-du-Marché 15\, Lausanne\, 1004\, Suisse
CATEGORIES:Tournoi Ligue Ecolière
END:VEVENT
BEGIN:VEVENT
DTSTART;TZID=Europe/Berlin:20240302T170000
DTEND;TZID=Europe/Berlin:20240302T190000
DTSTAMP:20260421T114412
CREATED:20231119T181518Z
LAST-MODIFIED:20231119T181518Z
UID:32487-1709398800-1709406000@avli.ch
SUMMARY:Match Ligue Écolière : Lutry - Préverenges
DESCRIPTION:
URL:https://avli.ch/event/match-ligue-ecoliere-lutry-preverenges/
LOCATION:Le Cazard (vente de billets sur place / pas de réservations)\, Rue Pré-du-Marché 15\, Lausanne\, 1004\, Suisse
CATEGORIES:Tournoi Ligue Ecolière
END:VEVENT
BEGIN:VEVENT
DTSTART;TZID=Europe/Berlin:20240302T200000
DTEND;TZID=Europe/Berlin:20240302T220000
DTSTAMP:20260421T114412
CREATED:20231119T180834Z
LAST-MODIFIED:20231119T180834Z
UID:32479-1709409600-1709416800@avli.ch
SUMMARY:Match Ligue A : HeiDi - La Gilberte
DESCRIPTION:
URL:https://avli.ch/event/match-ligue-a-heidi-la-gilberte/
LOCATION:Le Cazard (vente de billets sur place / pas de réservations)\, Rue Pré-du-Marché 15\, Lausanne\, 1004\, Suisse
CATEGORIES:Tournoi Ligue A
END:VEVENT
BEGIN:VEVENT
DTSTART;TZID=Europe/Berlin:20240313T150000
DTEND;TZID=Europe/Berlin:20240313T170000
DTSTAMP:20260421T114412
CREATED:20231121T181210Z
LAST-MODIFIED:20231121T181210Z
UID:32506-1710342000-1710349200@avli.ch
SUMMARY:Match Ligue Écolière : Cossonay - Egzeko
DESCRIPTION:
URL:https://avli.ch/event/match-ligue-ecoliere-cossonay-egzeko/
LOCATION:Le Cazard (vente de billets sur place / pas de réservations)\, Rue Pré-du-Marché 15\, Lausanne\, 1004\, Suisse
CATEGORIES:Tournoi Ligue Ecolière
END:VEVENT
BEGIN:VEVENT
DTSTART;TZID=Europe/Berlin:20240313T180000
DTEND;TZID=Europe/Berlin:20240313T200000
DTSTAMP:20260421T114412
CREATED:20231121T182154Z
LAST-MODIFIED:20231121T182154Z
UID:32508-1710352800-1710360000@avli.ch
SUMMARY:Match Ligue Écolière : Ecublens - Tour-de-Peilz
DESCRIPTION:
URL:https://avli.ch/event/match-ligue-ecoliere-ecublens-tour-de-peilz/
LOCATION:Le Cazard (vente de billets sur place / pas de réservations)\, Rue Pré-du-Marché 15\, Lausanne\, 1004\, Suisse
CATEGORIES:Tournoi Ligue Ecolière
END:VEVENT
BEGIN:VEVENT
DTSTART;TZID=Europe/Berlin:20240314T200000
DTEND;TZID=Europe/Berlin:20240314T220000
DTSTAMP:20260421T114412
CREATED:20231121T180257Z
LAST-MODIFIED:20231121T180257Z
UID:32498-1710446400-1710453600@avli.ch
SUMMARY:Match Ligue Junior : Roomies - GAP
DESCRIPTION:
URL:https://avli.ch/event/match-ligue-junior-roomies-gap/
LOCATION:Le Cazard (vente de billets sur place / pas de réservations)\, Rue Pré-du-Marché 15\, Lausanne\, 1004\, Suisse
CATEGORIES:Tournoi Ligue Junior
END:VEVENT
BEGIN:VEVENT
DTSTART;TZID=Europe/Berlin:20240315T200000
DTEND;TZID=Europe/Berlin:20240315T220000
DTSTAMP:20260421T114412
CREATED:20231121T175240Z
LAST-MODIFIED:20231121T175423Z
UID:32489-1710532800-1710540000@avli.ch
SUMMARY:Match Ligue A : Rictus Impra - GIN
DESCRIPTION:
URL:https://avli.ch/event/match-rictus-impra-gin/
LOCATION:Le Cazard (vente de billets sur place / pas de réservations)\, Rue Pré-du-Marché 15\, Lausanne\, 1004\, Suisse
CATEGORIES:Tournoi Ligue A
END:VEVENT
BEGIN:VEVENT
DTSTART;TZID=Europe/Berlin:20240316T100000
DTEND;TZID=Europe/Berlin:20240316T120000
DTSTAMP:20260421T114412
CREATED:20231121T182943Z
LAST-MODIFIED:20231121T182943Z
UID:32512-1710583200-1710590400@avli.ch
SUMMARY:Match Ligue Poussins : Béthusy - Polliez-Pittet - IS-Kids
DESCRIPTION:
URL:https://avli.ch/event/match-ligue-poussins-bethusy-polliez-pittet-is-kids/
LOCATION:Le Cazard (vente de billets sur place / pas de réservations)\, Rue Pré-du-Marché 15\, Lausanne\, 1004\, Suisse
CATEGORIES:Match Ligue Poussin
END:VEVENT
BEGIN:VEVENT
DTSTART;TZID=Europe/Berlin:20240316T140000
DTEND;TZID=Europe/Berlin:20240316T160000
DTSTAMP:20260421T114412
CREATED:20231121T182329Z
LAST-MODIFIED:20231121T182329Z
UID:32510-1710597600-1710604800@avli.ch
SUMMARY:Match Ligue Écolière : Béthusy - Grandson
DESCRIPTION:
URL:https://avli.ch/event/match-ligue-ecoliere-bethusy-grandson/
LOCATION:Le Cazard (vente de billets sur place / pas de réservations)\, Rue Pré-du-Marché 15\, Lausanne\, 1004\, Suisse
CATEGORIES:Tournoi Ligue Ecolière
END:VEVENT
BEGIN:VEVENT
DTSTART;TZID=Europe/Berlin:20240316T170000
DTEND;TZID=Europe/Berlin:20240316T190000
DTSTAMP:20260421T114412
CREATED:20231121T180851Z
LAST-MODIFIED:20240305T130457Z
UID:32504-1710608400-1710615600@avli.ch
SUMMARY:Match Ligue Junior : Le Michel - Beaulieu
DESCRIPTION:
URL:https://avli.ch/event/match-ligue-junior-le-michel-beaulieu/
LOCATION:Le Cazard (vente de billets sur place / pas de réservations)\, Rue Pré-du-Marché 15\, Lausanne\, 1004\, Suisse
CATEGORIES:Tournoi Ligue Junior
END:VEVENT
BEGIN:VEVENT
DTSTART;TZID=Europe/Berlin:20240316T200000
DTEND;TZID=Europe/Berlin:20240316T220000
DTSTAMP:20260421T114412
CREATED:20231121T180655Z
LAST-MODIFIED:20231121T180655Z
UID:32502-1710619200-1710626400@avli.ch
SUMMARY:Match Ligue Junior : NOM - Amis
DESCRIPTION:
URL:https://avli.ch/event/match-ligue-junior-nom-amis/
LOCATION:Le Cazard (vente de billets sur place / pas de réservations)\, Rue Pré-du-Marché 15\, Lausanne\, 1004\, Suisse
CATEGORIES:Tournoi Ligue Junior
END:VEVENT
BEGIN:VEVENT
DTSTART;TZID=Europe/Berlin:20240320T150000
DTEND;TZID=Europe/Berlin:20240320T170000
DTSTAMP:20260421T114412
CREATED:20231121T183222Z
LAST-MODIFIED:20231121T183222Z
UID:32514-1710946800-1710954000@avli.ch
SUMMARY:Match Ligue Écolière : Bergières - Elysée
DESCRIPTION:
URL:https://avli.ch/event/match-ligue-ecoliere-bergieres-elysee/
CATEGORIES:Tournoi Ligue Ecolière
END:VEVENT
BEGIN:VEVENT
DTSTART;TZID=Europe/Berlin:20240320T180000
DTEND;TZID=Europe/Berlin:20240320T200000
DTSTAMP:20260421T114412
CREATED:20231121T183508Z
LAST-MODIFIED:20231203T140325Z
UID:32516-1710957600-1710964800@avli.ch
SUMMARY:Match Ligue Écolière : Moucherooms - Belvédère
DESCRIPTION:
URL:https://avli.ch/event/match-ligue-ecoliere-moucherooms-belvedere/
LOCATION:Le Cazard (vente de billets sur place / pas de réservations)\, Rue Pré-du-Marché 15\, Lausanne\, 1004\, Suisse
CATEGORIES:Tournoi Ligue Ecolière
END:VEVENT
BEGIN:VEVENT
DTSTART;TZID=Europe/Berlin:20240321T200000
DTEND;TZID=Europe/Berlin:20240321T220000
DTSTAMP:20260421T114412
CREATED:20231121T175402Z
LAST-MODIFIED:20231121T175402Z
UID:32491-1711051200-1711058400@avli.ch
SUMMARY:Match Ligue A : PIP - Clim
DESCRIPTION:
URL:https://avli.ch/event/match-ligue-a-pip-clim/
LOCATION:Le Cazard (vente de billets sur place / pas de réservations)\, Rue Pré-du-Marché 15\, Lausanne\, 1004\, Suisse
CATEGORIES:Tournoi Ligue A
END:VEVENT
BEGIN:VEVENT
DTSTART;TZID=Europe/Berlin:20240322T200000
DTEND;TZID=Europe/Berlin:20240322T220000
DTSTAMP:20260421T114412
CREATED:20231121T175537Z
LAST-MODIFIED:20231121T175537Z
UID:32494-1711137600-1711144800@avli.ch
SUMMARY:Match Ligue A : Brunch à la ferme - U'Nyon
DESCRIPTION:
URL:https://avli.ch/event/match-ligue-a-brunch-a-la-ferme-unyon/
LOCATION:Le Cazard (vente de billets sur place / pas de réservations)\, Rue Pré-du-Marché 15\, Lausanne\, 1004\, Suisse
CATEGORIES:Tournoi Ligue A
END:VEVENT
BEGIN:VEVENT
DTSTART;TZID=Europe/Berlin:20240323T100000
DTEND;TZID=Europe/Berlin:20240323T120000
DTSTAMP:20260421T114412
CREATED:20231203T140808Z
LAST-MODIFIED:20231203T140808Z
UID:32592-1711188000-1711195200@avli.ch
SUMMARY:Match Ligue Poussins : Belvédère - Elysée - Préverenges
DESCRIPTION:
URL:https://avli.ch/event/match-ligue-poussins-belvedere-elysee-preverenges-2/
LOCATION:Le Cazard (vente de billets sur place / pas de réservations)\, Rue Pré-du-Marché 15\, Lausanne\, 1004\, Suisse
CATEGORIES:Match Ligue Poussin
END:VEVENT
BEGIN:VEVENT
DTSTART;TZID=Europe/Berlin:20240323T140000
DTEND;TZID=Europe/Berlin:20240323T160000
DTSTAMP:20260421T114412
CREATED:20231121T185421Z
LAST-MODIFIED:20231203T140635Z
UID:32520-1711202400-1711209600@avli.ch
SUMMARY:Match Ligue Écolière : Aubonne - Egzeko
DESCRIPTION:
URL:https://avli.ch/event/match-ligue-ecoliere-aubonne-egzeko/
LOCATION:Le Cazard (vente de billets sur place / pas de réservations)\, Rue Pré-du-Marché 15\, Lausanne\, 1004\, Suisse
CATEGORIES:Tournoi Ligue Ecolière
END:VEVENT
BEGIN:VEVENT
DTSTART;TZID=Europe/Berlin:20240323T170000
DTEND;TZID=Europe/Berlin:20240323T190000
DTSTAMP:20260421T114412
CREATED:20231121T180524Z
LAST-MODIFIED:20240305T130448Z
UID:32500-1711213200-1711220400@avli.ch
SUMMARY:Match Ligue Junior : BRIC - Camorra
DESCRIPTION:
URL:https://avli.ch/event/match-ligue-junior-bric-camorra/
LOCATION:Le Cazard (vente de billets sur place / pas de réservations)\, Rue Pré-du-Marché 15\, Lausanne\, 1004\, Suisse
CATEGORIES:Tournoi Ligue Junior
END:VEVENT
BEGIN:VEVENT
DTSTART;TZID=Europe/Berlin:20240323T200000
DTEND;TZID=Europe/Berlin:20240323T220000
DTSTAMP:20260421T114412
CREATED:20231121T175931Z
LAST-MODIFIED:20231121T175931Z
UID:32496-1711224000-1711231200@avli.ch
SUMMARY:Match Ligue A : Captain Neo - Bleu.e.x.s
DESCRIPTION:
URL:https://avli.ch/event/match-ligue-a-captain-neo-bleu-e-x-s/
LOCATION:Le Cazard (vente de billets sur place / pas de réservations)\, Rue Pré-du-Marché 15\, Lausanne\, 1004\, Suisse
CATEGORIES:Tournoi Ligue A
END:VEVENT
BEGIN:VEVENT
DTSTART;TZID=Europe/Berlin:20240324T180000
DTEND;TZID=Europe/Berlin:20240324T210000
DTSTAMP:20260421T114412
CREATED:20240302T103510Z
LAST-MODIFIED:20240302T103510Z
UID:32625-1711303200-1711314000@avli.ch
SUMMARY:Match Pro : Suisse vs France
DESCRIPTION:
URL:https://avli.ch/event/match-pro-suisse-vs-france/
LOCATION:Vallée de la Jeunesse\, Ch. de la Prairie 11\, Lausanne\, 1007\, Suisse
CATEGORIES:Match pro
END:VEVENT
END:VCALENDAR