BEGIN:VCALENDAR
VERSION:2.0
PRODID:-//AVLI - ECPv6.15.11//NONSGML v1.0//EN
CALSCALE:GREGORIAN
METHOD:PUBLISH
X-ORIGINAL-URL:https://avli.ch
X-WR-CALDESC:Évènements pour AVLI
REFRESH-INTERVAL;VALUE=DURATION:PT1H
X-Robots-Tag:noindex
X-PUBLISHED-TTL:PT1H
BEGIN:VTIMEZONE
TZID:Europe/Berlin
BEGIN:DAYLIGHT
TZOFFSETFROM:+0100
TZOFFSETTO:+0200
TZNAME:CEST
DTSTART:20220327T010000
END:DAYLIGHT
BEGIN:STANDARD
TZOFFSETFROM:+0200
TZOFFSETTO:+0100
TZNAME:CET
DTSTART:20221030T010000
END:STANDARD
BEGIN:DAYLIGHT
TZOFFSETFROM:+0100
TZOFFSETTO:+0200
TZNAME:CEST
DTSTART:20230326T010000
END:DAYLIGHT
BEGIN:STANDARD
TZOFFSETFROM:+0200
TZOFFSETTO:+0100
TZNAME:CET
DTSTART:20231029T010000
END:STANDARD
BEGIN:DAYLIGHT
TZOFFSETFROM:+0100
TZOFFSETTO:+0200
TZNAME:CEST
DTSTART:20240331T010000
END:DAYLIGHT
BEGIN:STANDARD
TZOFFSETFROM:+0200
TZOFFSETTO:+0100
TZNAME:CET
DTSTART:20241027T010000
END:STANDARD
END:VTIMEZONE
BEGIN:VEVENT
DTSTART;TZID=Europe/Berlin:20230118T150000
DTEND;TZID=Europe/Berlin:20230118T170000
DTSTAMP:20260421T121254
CREATED:20221118T102728Z
LAST-MODIFIED:20221118T102728Z
UID:31317-1674054000-1674061200@avli.ch
SUMMARY:Match Ligue Ecolière : Belvédère - Bethusy
DESCRIPTION:
URL:https://avli.ch/event/match-ligue-ecoliere-belvedere-bethusy/
LOCATION:Aula du Belvédère\, Chemin des Croix-Rouges 26\, Lausanne\, 1007\, Suisse
CATEGORIES:Tournoi Ligue Ecolière
END:VEVENT
BEGIN:VEVENT
DTSTART;TZID=Europe/Berlin:20230118T180000
DTEND;TZID=Europe/Berlin:20230118T200000
DTSTAMP:20260421T121254
CREATED:20221118T102811Z
LAST-MODIFIED:20221118T102811Z
UID:31319-1674064800-1674072000@avli.ch
SUMMARY:Match Ligue Ecolière : Ecublens - Cossonay
DESCRIPTION:
URL:https://avli.ch/event/match-ligue-ecoliere-ecublens-cossonay/
LOCATION:Aula du Belvédère\, Chemin des Croix-Rouges 26\, Lausanne\, 1007\, Suisse
CATEGORIES:Tournoi Ligue Ecolière
END:VEVENT
BEGIN:VEVENT
DTSTART;TZID=Europe/Berlin:20230119T200000
DTEND;TZID=Europe/Berlin:20230119T220000
DTSTAMP:20260421T121254
CREATED:20221118T102906Z
LAST-MODIFIED:20221118T102906Z
UID:31321-1674158400-1674165600@avli.ch
SUMMARY:Match Ligue A : U'Nyon - Clim
DESCRIPTION:
URL:https://avli.ch/event/match-ligue-a-unyon-clim/
LOCATION:Le Cazard (vente de billets sur place / pas de réservations)\, Rue Pré-du-Marché 15\, Lausanne\, 1004\, Suisse
CATEGORIES:Tournoi Ligue A
END:VEVENT
BEGIN:VEVENT
DTSTART;TZID=Europe/Berlin:20230120T200000
DTEND;TZID=Europe/Berlin:20230120T220000
DTSTAMP:20260421T121254
CREATED:20221118T102950Z
LAST-MODIFIED:20221118T102950Z
UID:31323-1674244800-1674252000@avli.ch
SUMMARY:Match Ligue A : Rictus Impra - PIP
DESCRIPTION:
URL:https://avli.ch/event/match-ligue-a-rictus-impra-pip/
LOCATION:Le Cazard (vente de billets sur place / pas de réservations)\, Rue Pré-du-Marché 15\, Lausanne\, 1004\, Suisse
CATEGORIES:Tournoi Ligue A
END:VEVENT
BEGIN:VEVENT
DTSTART;TZID=Europe/Berlin:20230121T140000
DTEND;TZID=Europe/Berlin:20230121T160000
DTSTAMP:20260421T121254
CREATED:20221118T103056Z
LAST-MODIFIED:20221118T103056Z
UID:31325-1674309600-1674316800@avli.ch
SUMMARY:Match Ligue Ecolière : Egzeko - Elysée
DESCRIPTION:
URL:https://avli.ch/event/match-ligue-ecoliere-egzeko-elysee/
LOCATION:Aula du Belvédère\, Chemin des Croix-Rouges 26\, Lausanne\, 1007\, Suisse
CATEGORIES:Tournoi Ligue Ecolière
END:VEVENT
BEGIN:VEVENT
DTSTART;TZID=Europe/Berlin:20230121T170000
DTEND;TZID=Europe/Berlin:20230121T190000
DTSTAMP:20260421T121254
CREATED:20221118T103139Z
LAST-MODIFIED:20221118T103139Z
UID:31327-1674320400-1674327600@avli.ch
SUMMARY:Match Ligue Ecolière : Grandson - Morges
DESCRIPTION:
URL:https://avli.ch/event/match-ligue-ecoliere-grandson-morges/
LOCATION:Aula du Belvédère\, Chemin des Croix-Rouges 26\, Lausanne\, 1007\, Suisse
CATEGORIES:Tournoi Ligue Ecolière
END:VEVENT
BEGIN:VEVENT
DTSTART;TZID=Europe/Berlin:20230121T200000
DTEND;TZID=Europe/Berlin:20230121T220000
DTSTAMP:20260421T121254
CREATED:20221118T103228Z
LAST-MODIFIED:20221118T103228Z
UID:31329-1674331200-1674338400@avli.ch
SUMMARY:Match Ligue Junior : NOM - Michel
DESCRIPTION:
URL:https://avli.ch/event/match-ligue-junior-nom-michel/
LOCATION:Le Cazard (vente de billets sur place / pas de réservations)\, Rue Pré-du-Marché 15\, Lausanne\, 1004\, Suisse
CATEGORIES:Tournoi Ligue Junior
END:VEVENT
END:VCALENDAR