BEGIN:VCALENDAR
VERSION:2.0
PRODID:-//AVLI - ECPv6.15.11//NONSGML v1.0//EN
CALSCALE:GREGORIAN
METHOD:PUBLISH
X-ORIGINAL-URL:https://avli.ch
X-WR-CALDESC:Évènements pour AVLI
REFRESH-INTERVAL;VALUE=DURATION:PT1H
X-Robots-Tag:noindex
X-PUBLISHED-TTL:PT1H
BEGIN:VTIMEZONE
TZID:Europe/Berlin
BEGIN:DAYLIGHT
TZOFFSETFROM:+0100
TZOFFSETTO:+0200
TZNAME:CEST
DTSTART:20210328T010000
END:DAYLIGHT
BEGIN:STANDARD
TZOFFSETFROM:+0200
TZOFFSETTO:+0100
TZNAME:CET
DTSTART:20211031T010000
END:STANDARD
BEGIN:DAYLIGHT
TZOFFSETFROM:+0100
TZOFFSETTO:+0200
TZNAME:CEST
DTSTART:20220327T010000
END:DAYLIGHT
BEGIN:STANDARD
TZOFFSETFROM:+0200
TZOFFSETTO:+0100
TZNAME:CET
DTSTART:20221030T010000
END:STANDARD
BEGIN:DAYLIGHT
TZOFFSETFROM:+0100
TZOFFSETTO:+0200
TZNAME:CEST
DTSTART:20230326T010000
END:DAYLIGHT
BEGIN:STANDARD
TZOFFSETFROM:+0200
TZOFFSETTO:+0100
TZNAME:CET
DTSTART:20231029T010000
END:STANDARD
END:VTIMEZONE
BEGIN:VEVENT
DTSTART;TZID=Europe/Berlin:20220305T170000
DTEND;TZID=Europe/Berlin:20220305T190000
DTSTAMP:20260422T191818
CREATED:20211013T151635Z
LAST-MODIFIED:20211229T145232Z
UID:30605-1646499600-1646506800@avli.ch
SUMMARY:Beaulieu - Amis
DESCRIPTION:
URL:https://avli.ch/event/match-liju-12/
LOCATION:Vaud
CATEGORIES:Tournoi Ligue Junior
END:VEVENT
BEGIN:VEVENT
DTSTART;TZID=Europe/Berlin:20220305T200000
DTEND;TZID=Europe/Berlin:20220305T220000
DTSTAMP:20260422T191818
CREATED:20211013T151701Z
LAST-MODIFIED:20211229T144932Z
UID:30607-1646510400-1646517600@avli.ch
SUMMARY:Beaulieu - Amis
DESCRIPTION:
URL:https://avli.ch/event/match-liju-13/
LOCATION:Vaud
CATEGORIES:Tournoi Ligue Junior
END:VEVENT
BEGIN:VEVENT
DTSTART;TZID=Europe/Berlin:20220312T200000
DTEND;TZID=Europe/Berlin:20220312T220000
DTSTAMP:20260422T191818
CREATED:20211013T151736Z
LAST-MODIFIED:20211229T145000Z
UID:30609-1647115200-1647122400@avli.ch
SUMMARY:Camorra - Michel
DESCRIPTION:
URL:https://avli.ch/event/match-liju-14/
LOCATION:Vaud
CATEGORIES:Tournoi Ligue Junior
END:VEVENT
BEGIN:VEVENT
DTSTART;TZID=Europe/Berlin:20220324T200000
DTEND;TZID=Europe/Berlin:20220324T220000
DTSTAMP:20260422T191818
CREATED:20211013T151834Z
LAST-MODIFIED:20211229T145034Z
UID:30611-1648152000-1648159200@avli.ch
SUMMARY:NOM - Fantôme
DESCRIPTION:
URL:https://avli.ch/event/match-liju-15/
LOCATION:Vaud
CATEGORIES:Tournoi Ligue Junior
END:VEVENT
BEGIN:VEVENT
DTSTART;TZID=Europe/Berlin:20220325T200000
DTEND;TZID=Europe/Berlin:20220325T220000
DTSTAMP:20260422T191818
CREATED:20211013T151904Z
LAST-MODIFIED:20211229T145058Z
UID:30613-1648238400-1648245600@avli.ch
SUMMARY:BRIC - O'Nyon
DESCRIPTION:
URL:https://avli.ch/event/match-liju-16/
LOCATION:Vaud
CATEGORIES:Tournoi Ligue Junior
END:VEVENT
BEGIN:VEVENT
DTSTART;TZID=Europe/Berlin:20220326T200000
DTEND;TZID=Europe/Berlin:20220326T220000
DTSTAMP:20260422T191818
CREATED:20211013T152055Z
LAST-MODIFIED:20211013T152055Z
UID:30617-1648324800-1648332000@avli.ch
SUMMARY:Spectacle Carte Blanche LIJU
DESCRIPTION:
URL:https://avli.ch/event/spectacle-carte-blanche-liju/
LOCATION:Vaud
CATEGORIES:Tournoi Ligue Junior
END:VEVENT
END:VCALENDAR