BEGIN:VCALENDAR
VERSION:2.0
PRODID:-//AVLI - ECPv6.15.11//NONSGML v1.0//EN
CALSCALE:GREGORIAN
METHOD:PUBLISH
X-WR-CALNAME:AVLI
X-ORIGINAL-URL:https://avli.ch
X-WR-CALDESC:Évènements pour AVLI
REFRESH-INTERVAL;VALUE=DURATION:PT1H
X-Robots-Tag:noindex
X-PUBLISHED-TTL:PT1H
BEGIN:VTIMEZONE
TZID:Europe/Berlin
BEGIN:DAYLIGHT
TZOFFSETFROM:+0100
TZOFFSETTO:+0200
TZNAME:CEST
DTSTART:20230326T010000
END:DAYLIGHT
BEGIN:STANDARD
TZOFFSETFROM:+0200
TZOFFSETTO:+0100
TZNAME:CET
DTSTART:20231029T010000
END:STANDARD
BEGIN:DAYLIGHT
TZOFFSETFROM:+0100
TZOFFSETTO:+0200
TZNAME:CEST
DTSTART:20240331T010000
END:DAYLIGHT
BEGIN:STANDARD
TZOFFSETFROM:+0200
TZOFFSETTO:+0100
TZNAME:CET
DTSTART:20241027T010000
END:STANDARD
BEGIN:DAYLIGHT
TZOFFSETFROM:+0100
TZOFFSETTO:+0200
TZNAME:CEST
DTSTART:20250330T010000
END:DAYLIGHT
BEGIN:STANDARD
TZOFFSETFROM:+0200
TZOFFSETTO:+0100
TZNAME:CET
DTSTART:20251026T010000
END:STANDARD
END:VTIMEZONE
BEGIN:VEVENT
DTSTART;TZID=Europe/Berlin:20240417T150000
DTEND;TZID=Europe/Berlin:20240417T170000
DTSTAMP:20260423T112312
CREATED:20231121T195745Z
LAST-MODIFIED:20231121T195745Z
UID:32554-1713366000-1713373200@avli.ch
SUMMARY:Match Ligue Écolière : Elysée - Epalinges
DESCRIPTION:
URL:https://avli.ch/event/match-ligue-ecoliere-elysee-epalinges/
LOCATION:Collège de l’Elysée\, Aula\, Chem. de Beau-Rivage 11\, Lausanne\, Suisse
CATEGORIES:Tournoi Ligue Ecolière
END:VEVENT
BEGIN:VEVENT
DTSTART;TZID=Europe/Berlin:20240417T180000
DTEND;TZID=Europe/Berlin:20240417T200000
DTSTAMP:20260423T112312
CREATED:20231121T195913Z
LAST-MODIFIED:20231121T195913Z
UID:32557-1713376800-1713384000@avli.ch
SUMMARY:Match Ligue Écolière : Belvédère - Crissier
DESCRIPTION:
URL:https://avli.ch/event/match-ligue-ecoliere-belvedere-crissier/
LOCATION:Collège de l’Elysée\, Aula\, Chem. de Beau-Rivage 11\, Lausanne\, Suisse
CATEGORIES:Tournoi Ligue Ecolière
END:VEVENT
END:VCALENDAR