BEGIN:VCALENDAR
VERSION:2.0
PRODID:-//AVLI - ECPv6.15.11//NONSGML v1.0//EN
CALSCALE:GREGORIAN
METHOD:PUBLISH
X-WR-CALNAME:AVLI
X-ORIGINAL-URL:https://avli.ch
X-WR-CALDESC:Évènements pour AVLI
REFRESH-INTERVAL;VALUE=DURATION:PT1H
X-Robots-Tag:noindex
X-PUBLISHED-TTL:PT1H
BEGIN:VTIMEZONE
TZID:Europe/Berlin
BEGIN:DAYLIGHT
TZOFFSETFROM:+0100
TZOFFSETTO:+0200
TZNAME:CEST
DTSTART:20190331T010000
END:DAYLIGHT
BEGIN:STANDARD
TZOFFSETFROM:+0200
TZOFFSETTO:+0100
TZNAME:CET
DTSTART:20191027T010000
END:STANDARD
BEGIN:DAYLIGHT
TZOFFSETFROM:+0100
TZOFFSETTO:+0200
TZNAME:CEST
DTSTART:20200329T010000
END:DAYLIGHT
BEGIN:STANDARD
TZOFFSETFROM:+0200
TZOFFSETTO:+0100
TZNAME:CET
DTSTART:20201025T010000
END:STANDARD
BEGIN:DAYLIGHT
TZOFFSETFROM:+0100
TZOFFSETTO:+0200
TZNAME:CEST
DTSTART:20210328T010000
END:DAYLIGHT
BEGIN:STANDARD
TZOFFSETFROM:+0200
TZOFFSETTO:+0100
TZNAME:CET
DTSTART:20211031T010000
END:STANDARD
END:VTIMEZONE
BEGIN:VEVENT
DTSTART;TZID=Europe/Berlin:20200506T150000
DTEND;TZID=Europe/Berlin:20200506T170000
DTSTAMP:20260425T133059
CREATED:20200114T145735Z
LAST-MODIFIED:20200425T013950Z
UID:30015-1588777200-1588784400@avli.ch
SUMMARY:Ligue écolière: Belvédère - Préverenges ANNULE
DESCRIPTION:Un match de la Ligue écolière (10-16 ans) de l’AVLI. Venez découvrir la relève de l’improvisation vaudoise! \nPrix: gratuit\, au chapeau\nOuverture des caisses: 30 minutes avant le spectacle (à peu près…)\nOuverture des portes: 15 minutes avant le spectacle (à peu près…)\nPas de réservations.
URL:https://avli.ch/event/ligue-ecoliere-belvedere-preverenges/
LOCATION:Le Cazard (vente de billets sur place / pas de réservations)\, Rue Pré-du-Marché 15\, Lausanne\, 1004\, Suisse
CATEGORIES:Tournoi Ligue Ecolière
ATTACH;FMTTYPE=image/png:https://avli.ch/wp-content/uploads/2019/05/AVLI_LIGUE-02-e1572424006313.png
END:VEVENT
BEGIN:VEVENT
DTSTART;TZID=Europe/Berlin:20200506T150000
DTEND;TZID=Europe/Berlin:20200506T170000
DTSTAMP:20260425T133059
CREATED:20200114T145835Z
LAST-MODIFIED:20200425T013943Z
UID:30017-1588777200-1588784400@avli.ch
SUMMARY:Ligue écolière: Béthusy - Cossonay ANNULE
DESCRIPTION:Un match de la Ligue écolière (10-16 ans) de l’AVLI. Venez découvrir la relève de l’improvisation vaudoise! \nPrix: gratuit\, au chapeau\nOuverture des caisses: 30 minutes avant le spectacle (à peu près…)\nOuverture des portes: 15 minutes avant le spectacle (à peu près…)\nPas de réservations.
URL:https://avli.ch/event/ligue-ecoliere-bethusy-cossonay/
LOCATION:Le Cazard (vente de billets sur place / pas de réservations)\, Rue Pré-du-Marché 15\, Lausanne\, 1004\, Suisse
CATEGORIES:Tournoi Ligue Ecolière
ATTACH;FMTTYPE=image/png:https://avli.ch/wp-content/uploads/2019/05/AVLI_LIGUE-02-e1572424006313.png
END:VEVENT
END:VCALENDAR