BEGIN:VCALENDAR
VERSION:2.0
PRODID:-//AVLI - ECPv6.15.11//NONSGML v1.0//EN
CALSCALE:GREGORIAN
METHOD:PUBLISH
X-ORIGINAL-URL:https://avli.ch
X-WR-CALDESC:Évènements pour AVLI
REFRESH-INTERVAL;VALUE=DURATION:PT1H
X-Robots-Tag:noindex
X-PUBLISHED-TTL:PT1H
BEGIN:VTIMEZONE
TZID:Europe/Berlin
BEGIN:DAYLIGHT
TZOFFSETFROM:+0100
TZOFFSETTO:+0200
TZNAME:CEST
DTSTART:20190331T010000
END:DAYLIGHT
BEGIN:STANDARD
TZOFFSETFROM:+0200
TZOFFSETTO:+0100
TZNAME:CET
DTSTART:20191027T010000
END:STANDARD
BEGIN:DAYLIGHT
TZOFFSETFROM:+0100
TZOFFSETTO:+0200
TZNAME:CEST
DTSTART:20200329T010000
END:DAYLIGHT
BEGIN:STANDARD
TZOFFSETFROM:+0200
TZOFFSETTO:+0100
TZNAME:CET
DTSTART:20201025T010000
END:STANDARD
BEGIN:DAYLIGHT
TZOFFSETFROM:+0100
TZOFFSETTO:+0200
TZNAME:CEST
DTSTART:20210328T010000
END:DAYLIGHT
BEGIN:STANDARD
TZOFFSETFROM:+0200
TZOFFSETTO:+0100
TZNAME:CET
DTSTART:20211031T010000
END:STANDARD
END:VTIMEZONE
BEGIN:VEVENT
DTSTART;TZID=Europe/Berlin:20200327T180000
DTEND;TZID=Europe/Berlin:20200327T200000
DTSTAMP:20260425T212137
CREATED:20200110T184011Z
LAST-MODIFIED:20200314T001814Z
UID:30005-1585332000-1585339200@avli.ch
SUMMARY:Ligue écolière: Morges - Grandson ANNULE
DESCRIPTION:Un match de la Ligue écolière (10-16 ans) de l’AVLI. Venez découvrir la relève de l’improvisation vaudoise! \nPrix: gratuit\, au chapeau\nOuverture des caisses: 30 minutes avant le spectacle (à peu près…)\nOuverture des portes: 15 minutes avant le spectacle (à peu près…)\nPas de réservations.
URL:https://avli.ch/event/ligue-ecoliere-morges-grandson/
LOCATION:Beausobre\, Conservatoire de l'Ouest Vaudois\, Av. de Vertou 2\, Morges\, Vaud\, 1110\, Suisse
CATEGORIES:Tournoi Ligue Ecolière
END:VEVENT
END:VCALENDAR