BEGIN:VCALENDAR
VERSION:2.0
PRODID:-//AVLI - ECPv6.15.11//NONSGML v1.0//EN
CALSCALE:GREGORIAN
METHOD:PUBLISH
X-ORIGINAL-URL:https://avli.ch
X-WR-CALDESC:Évènements pour AVLI
REFRESH-INTERVAL;VALUE=DURATION:PT1H
X-Robots-Tag:noindex
X-PUBLISHED-TTL:PT1H
BEGIN:VTIMEZONE
TZID:Europe/Berlin
BEGIN:DAYLIGHT
TZOFFSETFROM:+0100
TZOFFSETTO:+0200
TZNAME:CEST
DTSTART:20190331T010000
END:DAYLIGHT
BEGIN:STANDARD
TZOFFSETFROM:+0200
TZOFFSETTO:+0100
TZNAME:CET
DTSTART:20191027T010000
END:STANDARD
BEGIN:DAYLIGHT
TZOFFSETFROM:+0100
TZOFFSETTO:+0200
TZNAME:CEST
DTSTART:20200329T010000
END:DAYLIGHT
BEGIN:STANDARD
TZOFFSETFROM:+0200
TZOFFSETTO:+0100
TZNAME:CET
DTSTART:20201025T010000
END:STANDARD
BEGIN:DAYLIGHT
TZOFFSETFROM:+0100
TZOFFSETTO:+0200
TZNAME:CEST
DTSTART:20210328T010000
END:DAYLIGHT
BEGIN:STANDARD
TZOFFSETFROM:+0200
TZOFFSETTO:+0100
TZNAME:CET
DTSTART:20211031T010000
END:STANDARD
END:VTIMEZONE
BEGIN:VEVENT
DTSTART;TZID=Europe/Berlin:20200325T150000
DTEND;TZID=Europe/Berlin:20200325T170000
DTSTAMP:20260425T181613
CREATED:20200110T183735Z
LAST-MODIFIED:20200314T001847Z
UID:30000-1585148400-1585155600@avli.ch
SUMMARY:Ligue écolière: Aubonne - Cossonay ANNULE
DESCRIPTION:Un match de la Ligue écolière (10-16 ans) de l’AVLI. Venez découvrir la relève de l’improvisation vaudoise! \nPrix: gratuit\, au chapeau\nOuverture des caisses: 30 minutes avant le spectacle (à peu près…)\nOuverture des portes: 15 minutes avant le spectacle (à peu près…)\nPas de réservations.
URL:https://avli.ch/event/ligue-ecoliere-aubonne-cossonay/
LOCATION:Beausobre\, Conservatoire de l'Ouest Vaudois\, Av. de Vertou 2\, Morges\, Vaud\, 1110\, Suisse
CATEGORIES:Tournoi Ligue Ecolière
ATTACH;FMTTYPE=image/png:https://avli.ch/wp-content/uploads/2019/05/AVLI_LIGUE-02-e1572424006313.png
END:VEVENT
BEGIN:VEVENT
DTSTART;TZID=Europe/Berlin:20200325T180000
DTEND;TZID=Europe/Berlin:20200325T200000
DTSTAMP:20260425T181613
CREATED:20200110T183839Z
LAST-MODIFIED:20200314T001832Z
UID:30003-1585159200-1585166400@avli.ch
SUMMARY:Ligue écolière: Préverenge - Elysée ANNULE
DESCRIPTION:Un match de la Ligue écolière (10-16 ans) de l’AVLI. Venez découvrir la relève de l’improvisation vaudoise! \nPrix: gratuit\, au chapeau\nOuverture des caisses: 30 minutes avant le spectacle (à peu près…)\nOuverture des portes: 15 minutes avant le spectacle (à peu près…)\nPas de réservations.
URL:https://avli.ch/event/ligue-ecoliere-preverenge-elysee/
LOCATION:Beausobre\, Conservatoire de l'Ouest Vaudois\, Av. de Vertou 2\, Morges\, Vaud\, 1110\, Suisse
CATEGORIES:Tournoi Ligue Ecolière
ATTACH;FMTTYPE=image/png:https://avli.ch/wp-content/uploads/2019/05/AVLI_LIGUE-02-e1572424006313.png
END:VEVENT
END:VCALENDAR