BEGIN:VCALENDAR
VERSION:2.0
PRODID:-//AVLI - ECPv6.15.11//NONSGML v1.0//EN
CALSCALE:GREGORIAN
METHOD:PUBLISH
X-WR-CALNAME:AVLI
X-ORIGINAL-URL:https://avli.ch
X-WR-CALDESC:Évènements pour AVLI
REFRESH-INTERVAL;VALUE=DURATION:PT1H
X-Robots-Tag:noindex
X-PUBLISHED-TTL:PT1H
BEGIN:VTIMEZONE
TZID:Europe/Berlin
BEGIN:DAYLIGHT
TZOFFSETFROM:+0100
TZOFFSETTO:+0200
TZNAME:CEST
DTSTART:20210328T010000
END:DAYLIGHT
BEGIN:STANDARD
TZOFFSETFROM:+0200
TZOFFSETTO:+0100
TZNAME:CET
DTSTART:20211031T010000
END:STANDARD
BEGIN:DAYLIGHT
TZOFFSETFROM:+0100
TZOFFSETTO:+0200
TZNAME:CEST
DTSTART:20220327T010000
END:DAYLIGHT
BEGIN:STANDARD
TZOFFSETFROM:+0200
TZOFFSETTO:+0100
TZNAME:CET
DTSTART:20221030T010000
END:STANDARD
BEGIN:DAYLIGHT
TZOFFSETFROM:+0100
TZOFFSETTO:+0200
TZNAME:CEST
DTSTART:20230326T010000
END:DAYLIGHT
BEGIN:STANDARD
TZOFFSETFROM:+0200
TZOFFSETTO:+0100
TZNAME:CET
DTSTART:20231029T010000
END:STANDARD
END:VTIMEZONE
BEGIN:VEVENT
DTSTART;TZID=Europe/Berlin:20220511T150000
DTEND;TZID=Europe/Berlin:20220511T170000
DTSTAMP:20260421T091008
CREATED:20211014T222109Z
LAST-MODIFIED:20211229T134208Z
UID:30701-1652281200-1652288400@avli.ch
SUMMARY:Tour-de-Peilz - Corsier
DESCRIPTION:
URL:https://avli.ch/event/match-liev-24/
CATEGORIES:Tournoi Ligue Ecolière
END:VEVENT
BEGIN:VEVENT
DTSTART;TZID=Europe/Berlin:20220511T180000
DTEND;TZID=Europe/Berlin:20220511T200000
DTSTAMP:20260421T091008
CREATED:20211014T222201Z
LAST-MODIFIED:20211229T134231Z
UID:30703-1652292000-1652299200@avli.ch
SUMMARY:Epalinges - Moucherooms
DESCRIPTION:
URL:https://avli.ch/event/match-liev-25/
CATEGORIES:Tournoi Ligue Ecolière
END:VEVENT
BEGIN:VEVENT
DTSTART;TZID=Europe/Berlin:20220514T140000
DTEND;TZID=Europe/Berlin:20220514T160000
DTSTAMP:20260421T091008
CREATED:20211014T222336Z
LAST-MODIFIED:20211229T134317Z
UID:30705-1652536800-1652544000@avli.ch
SUMMARY:Gala Ecolier
DESCRIPTION:
URL:https://avli.ch/event/match-liev-26/
CATEGORIES:Tournoi Ligue Ecolière
END:VEVENT
BEGIN:VEVENT
DTSTART;TZID=Europe/Berlin:20220514T170000
DTEND;TZID=Europe/Berlin:20220514T190000
DTSTAMP:20260421T091008
CREATED:20211014T222418Z
LAST-MODIFIED:20211229T134409Z
UID:30707-1652547600-1652554800@avli.ch
SUMMARY:Gala Ecolier
DESCRIPTION:
URL:https://avli.ch/event/match-liev-27/
CATEGORIES:Tournoi Ligue Ecolière
END:VEVENT
END:VCALENDAR