BEGIN:VCALENDAR
VERSION:2.0
PRODID:-//AVLI - ECPv6.15.11//NONSGML v1.0//EN
CALSCALE:GREGORIAN
METHOD:PUBLISH
X-WR-CALNAME:AVLI
X-ORIGINAL-URL:https://avli.ch
X-WR-CALDESC:Évènements pour AVLI
REFRESH-INTERVAL;VALUE=DURATION:PT1H
X-Robots-Tag:noindex
X-PUBLISHED-TTL:PT1H
BEGIN:VTIMEZONE
TZID:Europe/Berlin
BEGIN:DAYLIGHT
TZOFFSETFROM:+0100
TZOFFSETTO:+0200
TZNAME:CEST
DTSTART:20210328T010000
END:DAYLIGHT
BEGIN:STANDARD
TZOFFSETFROM:+0200
TZOFFSETTO:+0100
TZNAME:CET
DTSTART:20211031T010000
END:STANDARD
BEGIN:DAYLIGHT
TZOFFSETFROM:+0100
TZOFFSETTO:+0200
TZNAME:CEST
DTSTART:20220327T010000
END:DAYLIGHT
BEGIN:STANDARD
TZOFFSETFROM:+0200
TZOFFSETTO:+0100
TZNAME:CET
DTSTART:20221030T010000
END:STANDARD
BEGIN:DAYLIGHT
TZOFFSETFROM:+0100
TZOFFSETTO:+0200
TZNAME:CEST
DTSTART:20230326T010000
END:DAYLIGHT
BEGIN:STANDARD
TZOFFSETFROM:+0200
TZOFFSETTO:+0100
TZNAME:CET
DTSTART:20231029T010000
END:STANDARD
END:VTIMEZONE
BEGIN:VEVENT
DTSTART;TZID=Europe/Berlin:20220305T100000
DTEND;TZID=Europe/Berlin:20220305T120000
DTSTAMP:20260421T091117
CREATED:20211013T154035Z
LAST-MODIFIED:20211229T132106Z
UID:30666-1646474400-1646481600@avli.ch
SUMMARY:Aubonne - IS-Kids - Villamont
DESCRIPTION:
URL:https://avli.ch/event/matchs-poussins-2/
CATEGORIES:Tournoi Ligue Ecolière
END:VEVENT
BEGIN:VEVENT
DTSTART;TZID=Europe/Berlin:20220305T140000
DTEND;TZID=Europe/Berlin:20220305T160000
DTSTAMP:20260421T091117
CREATED:20211013T154114Z
LAST-MODIFIED:20211229T132139Z
UID:30668-1646488800-1646496000@avli.ch
SUMMARY:Préverenges - Epalinges
DESCRIPTION:
URL:https://avli.ch/event/match-liev-11/
CATEGORIES:Tournoi Ligue Ecolière
END:VEVENT
BEGIN:VEVENT
DTSTART;TZID=Europe/Berlin:20220309T150000
DTEND;TZID=Europe/Berlin:20220309T170000
DTSTAMP:20260421T091117
CREATED:20211013T154224Z
LAST-MODIFIED:20211229T132213Z
UID:30670-1646838000-1646845200@avli.ch
SUMMARY:Polliez-Pittet - Béthusy - Villamont
DESCRIPTION:
URL:https://avli.ch/event/match-liev-12/
CATEGORIES:Tournoi Ligue Ecolière
END:VEVENT
BEGIN:VEVENT
DTSTART;TZID=Europe/Berlin:20220312T140000
DTEND;TZID=Europe/Berlin:20220312T160000
DTSTAMP:20260421T091117
CREATED:20211013T154358Z
LAST-MODIFIED:20211229T132325Z
UID:30674-1647093600-1647100800@avli.ch
SUMMARY:Béthusy - Morges
DESCRIPTION:
URL:https://avli.ch/event/match-liev-14/
CATEGORIES:Tournoi Ligue Ecolière
END:VEVENT
BEGIN:VEVENT
DTSTART;TZID=Europe/Berlin:20220312T170000
DTEND;TZID=Europe/Berlin:20220312T190000
DTSTAMP:20260421T091117
CREATED:20211229T140802Z
LAST-MODIFIED:20211229T141011Z
UID:30915-1647104400-1647111600@avli.ch
SUMMARY:Tour-de-Peilz - Blonay
DESCRIPTION:
URL:https://avli.ch/event/liju-tour-de-peilz-blonay/
CATEGORIES:Tournoi Ligue Ecolière
END:VEVENT
BEGIN:VEVENT
DTSTART;TZID=Europe/Berlin:20220323T150000
DTEND;TZID=Europe/Berlin:20220323T170000
DTSTAMP:20260421T091117
CREATED:20211013T154530Z
LAST-MODIFIED:20211229T134001Z
UID:30678-1648047600-1648054800@avli.ch
SUMMARY:Belvédères - Prilly
DESCRIPTION:
URL:https://avli.ch/event/match-liev-16/
LOCATION:Le Cazard (vente de billets sur place / pas de réservations)\, Rue Pré-du-Marché 15\, Lausanne\, 1004\, Suisse
CATEGORIES:Tournoi Ligue Ecolière
END:VEVENT
BEGIN:VEVENT
DTSTART;TZID=Europe/Berlin:20220323T180000
DTEND;TZID=Europe/Berlin:20220323T200000
DTSTAMP:20260421T091117
CREATED:20211013T154612Z
LAST-MODIFIED:20211229T133939Z
UID:30680-1648058400-1648065600@avli.ch
SUMMARY:Elysée - Cossonay
DESCRIPTION:
URL:https://avli.ch/event/match-liev-17/
LOCATION:Le Cazard (vente de billets sur place / pas de réservations)\, Rue Pré-du-Marché 15\, Lausanne\, 1004\, Suisse
CATEGORIES:Tournoi Ligue Ecolière
END:VEVENT
BEGIN:VEVENT
DTSTART;TZID=Europe/Berlin:20220326T100000
DTEND;TZID=Europe/Berlin:20220326T120000
DTSTAMP:20260421T091117
CREATED:20211013T154718Z
LAST-MODIFIED:20211229T133924Z
UID:30682-1648288800-1648296000@avli.ch
SUMMARY:Aubonne - Belvédères - Elysée
DESCRIPTION:
URL:https://avli.ch/event/matchs-poussins-3/
LOCATION:Le Cazard (vente de billets sur place / pas de réservations)\, Rue Pré-du-Marché 15\, Lausanne\, 1004\, Suisse
CATEGORIES:Tournoi Ligue Ecolière
END:VEVENT
BEGIN:VEVENT
DTSTART;TZID=Europe/Berlin:20220326T140000
DTEND;TZID=Europe/Berlin:20220326T160000
DTSTAMP:20260421T091117
CREATED:20211014T221049Z
LAST-MODIFIED:20211229T133907Z
UID:30685-1648303200-1648310400@avli.ch
SUMMARY:Moucherooms - Lutry
DESCRIPTION:
URL:https://avli.ch/event/match-liev-18/
LOCATION:Le Cazard (vente de billets sur place / pas de réservations)\, Rue Pré-du-Marché 15\, Lausanne\, 1004\, Suisse
CATEGORIES:Tournoi Ligue Ecolière
END:VEVENT
BEGIN:VEVENT
DTSTART;TZID=Europe/Berlin:20220330T150000
DTEND;TZID=Europe/Berlin:20220330T170000
DTSTAMP:20260421T091117
CREATED:20211014T221130Z
LAST-MODIFIED:20211229T133502Z
UID:30687-1648652400-1648659600@avli.ch
SUMMARY:Belvédères - Préverenges
DESCRIPTION:
URL:https://avli.ch/event/match-liev-19/
CATEGORIES:Tournoi Ligue Ecolière
END:VEVENT
BEGIN:VEVENT
DTSTART;TZID=Europe/Berlin:20220330T150000
DTEND;TZID=Europe/Berlin:20220330T170000
DTSTAMP:20260421T091117
CREATED:20211014T221259Z
LAST-MODIFIED:20211229T133540Z
UID:30689-1648652400-1648659600@avli.ch
SUMMARY:Elysée - Grandson
DESCRIPTION:
URL:https://avli.ch/event/match-liev-20/
CATEGORIES:Tournoi Ligue Ecolière
END:VEVENT
END:VCALENDAR