BEGIN:VCALENDAR
VERSION:2.0
PRODID:-//AVLI - ECPv6.15.11//NONSGML v1.0//EN
CALSCALE:GREGORIAN
METHOD:PUBLISH
X-WR-CALNAME:AVLI
X-ORIGINAL-URL:https://avli.ch
X-WR-CALDESC:Évènements pour AVLI
REFRESH-INTERVAL;VALUE=DURATION:PT1H
X-Robots-Tag:noindex
X-PUBLISHED-TTL:PT1H
BEGIN:VTIMEZONE
TZID:Europe/Berlin
BEGIN:DAYLIGHT
TZOFFSETFROM:+0100
TZOFFSETTO:+0200
TZNAME:CEST
DTSTART:20250330T010000
END:DAYLIGHT
BEGIN:STANDARD
TZOFFSETFROM:+0200
TZOFFSETTO:+0100
TZNAME:CET
DTSTART:20251026T010000
END:STANDARD
BEGIN:DAYLIGHT
TZOFFSETFROM:+0100
TZOFFSETTO:+0200
TZNAME:CEST
DTSTART:20260329T010000
END:DAYLIGHT
BEGIN:STANDARD
TZOFFSETFROM:+0200
TZOFFSETTO:+0100
TZNAME:CET
DTSTART:20261025T010000
END:STANDARD
BEGIN:DAYLIGHT
TZOFFSETFROM:+0100
TZOFFSETTO:+0200
TZNAME:CEST
DTSTART:20270328T010000
END:DAYLIGHT
BEGIN:STANDARD
TZOFFSETFROM:+0200
TZOFFSETTO:+0100
TZNAME:CET
DTSTART:20271031T010000
END:STANDARD
END:VTIMEZONE
BEGIN:VEVENT
DTSTART;TZID=Europe/Berlin:20260305T200000
DTEND;TZID=Europe/Berlin:20260305T220000
DTSTAMP:20260419T173219
CREATED:20251120T120357Z
LAST-MODIFIED:20251120T120357Z
UID:33251-1772740800-1772748000@avli.ch
SUMMARY:Match Ligue A : La Gilberte - Rictus Impra
DESCRIPTION:
URL:https://avli.ch/event/match-ligue-a-la-gilberte-rictus-impra/
LOCATION:Le Cazard\, Rue Pré-du-Marché 15\, Lausanne\, 1004\, Suisse
CATEGORIES:Tournoi Ligue A
END:VEVENT
BEGIN:VEVENT
DTSTART;TZID=Europe/Berlin:20260312T200000
DTEND;TZID=Europe/Berlin:20260312T220000
DTSTAMP:20260419T173219
CREATED:20251120T120502Z
LAST-MODIFIED:20251120T120502Z
UID:33253-1773345600-1773352800@avli.ch
SUMMARY:Match Ligue A : La Clim - L'Échappée belle
DESCRIPTION:
URL:https://avli.ch/event/match-ligue-a-la-clim-lechappee-belle/
LOCATION:Collège de l’Elysée\, Aula\, Chem. de Beau-Rivage 11\, Lausanne\, Suisse
CATEGORIES:Tournoi Ligue A
END:VEVENT
BEGIN:VEVENT
DTSTART;TZID=Europe/Berlin:20260313T200000
DTEND;TZID=Europe/Berlin:20260313T220000
DTSTAMP:20260419T173219
CREATED:20251120T120746Z
LAST-MODIFIED:20251120T120746Z
UID:33255-1773432000-1773439200@avli.ch
SUMMARY:Match Ligue A : Gin - Pip
DESCRIPTION:
URL:https://avli.ch/event/match-ligue-a-gin-pip-2/
LOCATION:Collège de l’Elysée\, Aula\, Chem. de Beau-Rivage 11\, Lausanne\, Suisse
CATEGORIES:Tournoi Ligue A
END:VEVENT
BEGIN:VEVENT
DTSTART;TZID=Europe/Berlin:20260319T200000
DTEND;TZID=Europe/Berlin:20260319T220000
DTSTAMP:20260419T173219
CREATED:20251120T120853Z
LAST-MODIFIED:20251120T120853Z
UID:33257-1773950400-1773957600@avli.ch
SUMMARY:Match Ligue A : La Gilberte - L'Échappée belle
DESCRIPTION:
URL:https://avli.ch/event/match-ligue-a-la-gilberte-lechappee-belle/
LOCATION:Le Cazard\, Rue Pré-du-Marché 15\, Lausanne\, 1004\, Suisse
CATEGORIES:Tournoi Ligue A
END:VEVENT
BEGIN:VEVENT
DTSTART;TZID=Europe/Berlin:20260321T200000
DTEND;TZID=Europe/Berlin:20260321T220000
DTSTAMP:20260419T173219
CREATED:20251120T120949Z
LAST-MODIFIED:20251120T120949Z
UID:33259-1774123200-1774130400@avli.ch
SUMMARY:Match Ligue A : U'Nyon - Gin
DESCRIPTION:
URL:https://avli.ch/event/match-ligue-a-unyon-gin/
LOCATION:Le Cazard\, Rue Pré-du-Marché 15\, Lausanne\, 1004\, Suisse
CATEGORIES:Tournoi Ligue A
END:VEVENT
BEGIN:VEVENT
DTSTART;TZID=Europe/Berlin:20260328T200000
DTEND;TZID=Europe/Berlin:20260328T220000
DTSTAMP:20260419T173219
CREATED:20251120T121039Z
LAST-MODIFIED:20251120T121039Z
UID:33261-1774728000-1774735200@avli.ch
SUMMARY:Match Ligue A : Brunch à la ferme - Captain Neo
DESCRIPTION:
URL:https://avli.ch/event/match-ligue-a-brunch-a-la-ferme-captain-neo/
LOCATION:Le Cazard\, Rue Pré-du-Marché 15\, Lausanne\, 1004\, Suisse
CATEGORIES:Tournoi Ligue A
END:VEVENT
END:VCALENDAR