BEGIN:VCALENDAR
VERSION:2.0
PRODID:-//AVLI - ECPv6.15.11//NONSGML v1.0//EN
CALSCALE:GREGORIAN
METHOD:PUBLISH
X-ORIGINAL-URL:https://avli.ch
X-WR-CALDESC:Évènements pour AVLI
REFRESH-INTERVAL;VALUE=DURATION:PT1H
X-Robots-Tag:noindex
X-PUBLISHED-TTL:PT1H
BEGIN:VTIMEZONE
TZID:Europe/Berlin
BEGIN:DAYLIGHT
TZOFFSETFROM:+0100
TZOFFSETTO:+0200
TZNAME:CEST
DTSTART:20250330T010000
END:DAYLIGHT
BEGIN:STANDARD
TZOFFSETFROM:+0200
TZOFFSETTO:+0100
TZNAME:CET
DTSTART:20251026T010000
END:STANDARD
BEGIN:DAYLIGHT
TZOFFSETFROM:+0100
TZOFFSETTO:+0200
TZNAME:CEST
DTSTART:20260329T010000
END:DAYLIGHT
BEGIN:STANDARD
TZOFFSETFROM:+0200
TZOFFSETTO:+0100
TZNAME:CET
DTSTART:20261025T010000
END:STANDARD
BEGIN:DAYLIGHT
TZOFFSETFROM:+0100
TZOFFSETTO:+0200
TZNAME:CEST
DTSTART:20270328T010000
END:DAYLIGHT
BEGIN:STANDARD
TZOFFSETFROM:+0200
TZOFFSETTO:+0100
TZNAME:CET
DTSTART:20271031T010000
END:STANDARD
END:VTIMEZONE
BEGIN:VEVENT
DTSTART;TZID=Europe/Berlin:20260202T200000
DTEND;TZID=Europe/Berlin:20260202T220000
DTSTAMP:20260419T191120
CREATED:20251120T115929Z
LAST-MODIFIED:20251120T115929Z
UID:33243-1770062400-1770069600@avli.ch
SUMMARY:Match Ligue A : Rictus Impra - L'Échappée belle
DESCRIPTION:
URL:https://avli.ch/event/match-ligue-a-rictus-impra-lechappee-belle/
LOCATION:Aula du Belvédère\, Chemin des Croix-Rouges 26\, Lausanne\, 1007\, Suisse
CATEGORIES:Tournoi Ligue A
END:VEVENT
BEGIN:VEVENT
DTSTART;TZID=Europe/Berlin:20260203T200000
DTEND;TZID=Europe/Berlin:20260203T220000
DTSTAMP:20260419T191120
CREATED:20251120T120020Z
LAST-MODIFIED:20251120T120020Z
UID:33245-1770148800-1770156000@avli.ch
SUMMARY:Match Ligue A : La Gilberte - La Clim
DESCRIPTION:
URL:https://avli.ch/event/match-ligue-a-la-gilberte-la-clim/
LOCATION:Aula du Belvédère\, Chemin des Croix-Rouges 26\, Lausanne\, 1007\, Suisse
CATEGORIES:Tournoi Ligue A
END:VEVENT
BEGIN:VEVENT
DTSTART;TZID=Europe/Berlin:20260205T200000
DTEND;TZID=Europe/Berlin:20260205T220000
DTSTAMP:20260419T191120
CREATED:20251120T120136Z
LAST-MODIFIED:20251120T120136Z
UID:33247-1770321600-1770328800@avli.ch
SUMMARY:Match Ligue A : Les Bleu.e.x.s - Brunch à la ferme
DESCRIPTION:
URL:https://avli.ch/event/match-ligue-a-les-bleu-e-x-s-brunch-a-la-ferme/
LOCATION:Aula du Belvédère\, Chemin des Croix-Rouges 26\, Lausanne\, 1007\, Suisse
CATEGORIES:Tournoi Ligue A
END:VEVENT
BEGIN:VEVENT
DTSTART;TZID=Europe/Berlin:20260226T200000
DTEND;TZID=Europe/Berlin:20260226T220000
DTSTAMP:20260419T191120
CREATED:20251120T120252Z
LAST-MODIFIED:20251120T120252Z
UID:33249-1772136000-1772143200@avli.ch
SUMMARY:Match Ligue A : U'Nyon - Rictus Impra
DESCRIPTION:
URL:https://avli.ch/event/match-ligue-a-unyon-rictus-impra-2/
LOCATION:Le Cazard\, Rue Pré-du-Marché 15\, Lausanne\, 1004\, Suisse
CATEGORIES:Tournoi Ligue A
END:VEVENT
END:VCALENDAR