BEGIN:VCALENDAR
VERSION:2.0
PRODID:-//AVLI - ECPv6.15.11//NONSGML v1.0//EN
CALSCALE:GREGORIAN
METHOD:PUBLISH
X-ORIGINAL-URL:https://avli.ch
X-WR-CALDESC:Évènements pour AVLI
REFRESH-INTERVAL;VALUE=DURATION:PT1H
X-Robots-Tag:noindex
X-PUBLISHED-TTL:PT1H
BEGIN:VTIMEZONE
TZID:Europe/Berlin
BEGIN:DAYLIGHT
TZOFFSETFROM:+0100
TZOFFSETTO:+0200
TZNAME:CEST
DTSTART:20240331T010000
END:DAYLIGHT
BEGIN:STANDARD
TZOFFSETFROM:+0200
TZOFFSETTO:+0100
TZNAME:CET
DTSTART:20241027T010000
END:STANDARD
BEGIN:DAYLIGHT
TZOFFSETFROM:+0100
TZOFFSETTO:+0200
TZNAME:CEST
DTSTART:20250330T010000
END:DAYLIGHT
BEGIN:STANDARD
TZOFFSETFROM:+0200
TZOFFSETTO:+0100
TZNAME:CET
DTSTART:20251026T010000
END:STANDARD
BEGIN:DAYLIGHT
TZOFFSETFROM:+0100
TZOFFSETTO:+0200
TZNAME:CEST
DTSTART:20260329T010000
END:DAYLIGHT
BEGIN:STANDARD
TZOFFSETFROM:+0200
TZOFFSETTO:+0100
TZNAME:CET
DTSTART:20261025T010000
END:STANDARD
END:VTIMEZONE
BEGIN:VEVENT
DTSTART;TZID=Europe/Berlin:20250502T200000
DTEND;TZID=Europe/Berlin:20250502T220000
DTSTAMP:20260420T032321
CREATED:20241107T175015Z
LAST-MODIFIED:20241107T175015Z
UID:32883-1746216000-1746223200@avli.ch
SUMMARY:Match Ligue A : Les Bleu·e·x·s - PIP
DESCRIPTION:
URL:https://avli.ch/event/match-ligue-a-les-bleu%c2%b7e%c2%b7x%c2%b7s-pip/
LOCATION:Le Cazard (vente de billets sur place / pas de réservations)\, Rue Pré-du-Marché 15\, Lausanne\, 1004\, Suisse
CATEGORIES:Tournoi Ligue A
END:VEVENT
BEGIN:VEVENT
DTSTART;TZID=Europe/Berlin:20250503T200000
DTEND;TZID=Europe/Berlin:20250503T220000
DTSTAMP:20260420T032321
CREATED:20241107T175111Z
LAST-MODIFIED:20241107T175111Z
UID:32885-1746302400-1746309600@avli.ch
SUMMARY:Match Ligue A : Captain Neo - HeiDi
DESCRIPTION:
URL:https://avli.ch/event/match-ligue-a-captain-neo-heidi/
LOCATION:Le Cazard (vente de billets sur place / pas de réservations)\, Rue Pré-du-Marché 15\, Lausanne\, 1004\, Suisse
CATEGORIES:Tournoi Ligue A
END:VEVENT
BEGIN:VEVENT
DTSTART;TZID=Europe/Berlin:20250517T200000
DTEND;TZID=Europe/Berlin:20250517T220000
DTSTAMP:20260420T032321
CREATED:20241107T175158Z
LAST-MODIFIED:20241107T175158Z
UID:32887-1747512000-1747519200@avli.ch
SUMMARY:Match Ligue A : GIN - U'Nyon
DESCRIPTION:
URL:https://avli.ch/event/match-ligue-a-gin-unyon-2/
LOCATION:Le Cazard (vente de billets sur place / pas de réservations)\, Rue Pré-du-Marché 15\, Lausanne\, 1004\, Suisse
CATEGORIES:Tournoi Ligue A
END:VEVENT
BEGIN:VEVENT
DTSTART;TZID=Europe/Berlin:20250522T200000
DTEND;TZID=Europe/Berlin:20250522T220000
DTSTAMP:20260420T032321
CREATED:20241107T175240Z
LAST-MODIFIED:20241107T175240Z
UID:32889-1747944000-1747951200@avli.ch
SUMMARY:Match Ligue A : PIP - HeiDi
DESCRIPTION:
URL:https://avli.ch/event/match-ligue-a-pip-heidi-2/
LOCATION:Le Cazard (vente de billets sur place / pas de réservations)\, Rue Pré-du-Marché 15\, Lausanne\, 1004\, Suisse
CATEGORIES:Tournoi Ligue A
END:VEVENT
END:VCALENDAR