BEGIN:VCALENDAR
VERSION:2.0
PRODID:-//AVLI - ECPv6.15.11//NONSGML v1.0//EN
CALSCALE:GREGORIAN
METHOD:PUBLISH
X-WR-CALNAME:AVLI
X-ORIGINAL-URL:https://avli.ch
X-WR-CALDESC:Évènements pour AVLI
REFRESH-INTERVAL;VALUE=DURATION:PT1H
X-Robots-Tag:noindex
X-PUBLISHED-TTL:PT1H
BEGIN:VTIMEZONE
TZID:Europe/Berlin
BEGIN:DAYLIGHT
TZOFFSETFROM:+0100
TZOFFSETTO:+0200
TZNAME:CEST
DTSTART:20240331T010000
END:DAYLIGHT
BEGIN:STANDARD
TZOFFSETFROM:+0200
TZOFFSETTO:+0100
TZNAME:CET
DTSTART:20241027T010000
END:STANDARD
BEGIN:DAYLIGHT
TZOFFSETFROM:+0100
TZOFFSETTO:+0200
TZNAME:CEST
DTSTART:20250330T010000
END:DAYLIGHT
BEGIN:STANDARD
TZOFFSETFROM:+0200
TZOFFSETTO:+0100
TZNAME:CET
DTSTART:20251026T010000
END:STANDARD
BEGIN:DAYLIGHT
TZOFFSETFROM:+0100
TZOFFSETTO:+0200
TZNAME:CEST
DTSTART:20260329T010000
END:DAYLIGHT
BEGIN:STANDARD
TZOFFSETFROM:+0200
TZOFFSETTO:+0100
TZNAME:CET
DTSTART:20261025T010000
END:STANDARD
END:VTIMEZONE
BEGIN:VEVENT
DTSTART;TZID=Europe/Berlin:20250402T150000
DTEND;TZID=Europe/Berlin:20250402T170000
DTSTAMP:20260423T013439
CREATED:20241109T111950Z
LAST-MODIFIED:20241109T111950Z
UID:32938-1743606000-1743613200@avli.ch
SUMMARY:Match Ligue Ecolière : Grandson - Impro Azur
DESCRIPTION:
URL:https://avli.ch/event/match-ligue-ecoliere-grandson-impro-azur/
LOCATION:Le Cazard (vente de billets sur place / pas de réservations)\, Rue Pré-du-Marché 15\, Lausanne\, 1004\, Suisse
CATEGORIES:Tournoi Ligue Ecolière
END:VEVENT
BEGIN:VEVENT
DTSTART;TZID=Europe/Berlin:20250402T180000
DTEND;TZID=Europe/Berlin:20250402T200000
DTSTAMP:20260423T013439
CREATED:20241109T112050Z
LAST-MODIFIED:20241109T112050Z
UID:32940-1743616800-1743624000@avli.ch
SUMMARY:Match Ligue Ecolière : Morges - Ecublens
DESCRIPTION:
URL:https://avli.ch/event/match-ligue-ecoliere-morges-ecublens/
LOCATION:Le Cazard (vente de billets sur place / pas de réservations)\, Rue Pré-du-Marché 15\, Lausanne\, 1004\, Suisse
CATEGORIES:Tournoi Ligue Ecolière
END:VEVENT
END:VCALENDAR