BEGIN:VCALENDAR
VERSION:2.0
PRODID:-//AVLI - ECPv6.15.11//NONSGML v1.0//EN
CALSCALE:GREGORIAN
METHOD:PUBLISH
X-ORIGINAL-URL:https://avli.ch
X-WR-CALDESC:Évènements pour AVLI
REFRESH-INTERVAL;VALUE=DURATION:PT1H
X-Robots-Tag:noindex
X-PUBLISHED-TTL:PT1H
BEGIN:VTIMEZONE
TZID:Europe/Berlin
BEGIN:DAYLIGHT
TZOFFSETFROM:+0100
TZOFFSETTO:+0200
TZNAME:CEST
DTSTART:20230326T010000
END:DAYLIGHT
BEGIN:STANDARD
TZOFFSETFROM:+0200
TZOFFSETTO:+0100
TZNAME:CET
DTSTART:20231029T010000
END:STANDARD
BEGIN:DAYLIGHT
TZOFFSETFROM:+0100
TZOFFSETTO:+0200
TZNAME:CEST
DTSTART:20240331T010000
END:DAYLIGHT
BEGIN:STANDARD
TZOFFSETFROM:+0200
TZOFFSETTO:+0100
TZNAME:CET
DTSTART:20241027T010000
END:STANDARD
BEGIN:DAYLIGHT
TZOFFSETFROM:+0100
TZOFFSETTO:+0200
TZNAME:CEST
DTSTART:20250330T010000
END:DAYLIGHT
BEGIN:STANDARD
TZOFFSETFROM:+0200
TZOFFSETTO:+0100
TZNAME:CET
DTSTART:20251026T010000
END:STANDARD
END:VTIMEZONE
BEGIN:VEVENT
DTSTART;TZID=Europe/Berlin:20240608T200000
DTEND;TZID=Europe/Berlin:20240608T220000
DTSTAMP:20260422T013732
CREATED:20240519T145052Z
LAST-MODIFIED:20240529T111852Z
UID:32670-1717876800-1717884000@avli.ch
SUMMARY:Finale LIJU
DESCRIPTION:Heure : Portes 19h30\, Spectacle 20h et fin vers 22h-22h30 \nPrix : 5.- (membre avli\, peu-importe la ligue)/6.- (réduit)/10.- (plein)) \nLien de réservation : https://forms.gle/3MHkunqhZQ3B36Zp9
URL:https://avli.ch/event/finale-liju/
LOCATION:Centre culturel des Terreaux\, Rue de l'Ale 31\, Lausanne\, Vaud\, 1003\, Suisse
CATEGORIES:Tournoi Ligue Junior
END:VEVENT
END:VCALENDAR