BEGIN:VCALENDAR
VERSION:2.0
PRODID:-//AVLI - ECPv6.15.11//NONSGML v1.0//EN
CALSCALE:GREGORIAN
METHOD:PUBLISH
X-ORIGINAL-URL:https://avli.ch
X-WR-CALDESC:Évènements pour AVLI
REFRESH-INTERVAL;VALUE=DURATION:PT1H
X-Robots-Tag:noindex
X-PUBLISHED-TTL:PT1H
BEGIN:VTIMEZONE
TZID:Europe/Berlin
BEGIN:DAYLIGHT
TZOFFSETFROM:+0100
TZOFFSETTO:+0200
TZNAME:CEST
DTSTART:20230326T010000
END:DAYLIGHT
BEGIN:STANDARD
TZOFFSETFROM:+0200
TZOFFSETTO:+0100
TZNAME:CET
DTSTART:20231029T010000
END:STANDARD
BEGIN:DAYLIGHT
TZOFFSETFROM:+0100
TZOFFSETTO:+0200
TZNAME:CEST
DTSTART:20240331T010000
END:DAYLIGHT
BEGIN:STANDARD
TZOFFSETFROM:+0200
TZOFFSETTO:+0100
TZNAME:CET
DTSTART:20241027T010000
END:STANDARD
BEGIN:DAYLIGHT
TZOFFSETFROM:+0100
TZOFFSETTO:+0200
TZNAME:CEST
DTSTART:20250330T010000
END:DAYLIGHT
BEGIN:STANDARD
TZOFFSETFROM:+0200
TZOFFSETTO:+0100
TZNAME:CET
DTSTART:20251026T010000
END:STANDARD
END:VTIMEZONE
BEGIN:VEVENT
DTSTART;TZID=Europe/Berlin:20240529T150000
DTEND;TZID=Europe/Berlin:20240529T170000
DTSTAMP:20260422T013752
CREATED:20231121T202453Z
LAST-MODIFIED:20231121T202453Z
UID:32583-1716994800-1717002000@avli.ch
SUMMARY:Match Ligue Poussins : Villamont - Belvédère - Elysée
DESCRIPTION:
URL:https://avli.ch/event/match-ligue-poussins-villamont-belvedere-elysee/
LOCATION:Le Cazard (vente de billets sur place / pas de réservations)\, Rue Pré-du-Marché 15\, Lausanne\, 1004\, Suisse
CATEGORIES:Match Ligue Poussin
END:VEVENT
BEGIN:VEVENT
DTSTART;TZID=Europe/Berlin:20240529T180000
DTEND;TZID=Europe/Berlin:20240529T200000
DTSTAMP:20260422T013752
CREATED:20231121T202630Z
LAST-MODIFIED:20231121T202630Z
UID:32585-1717005600-1717012800@avli.ch
SUMMARY:Match Ligue Poussins : Prilly - Crissier - Préverenges
DESCRIPTION:
URL:https://avli.ch/event/match-ligue-poussins-prilly-crissier-preverenges/
LOCATION:Le Cazard (vente de billets sur place / pas de réservations)\, Rue Pré-du-Marché 15\, Lausanne\, 1004\, Suisse
CATEGORIES:Match Ligue Poussin
END:VEVENT
END:VCALENDAR